BEGIN:VCALENDAR
VERSION:2.0
PRODID:-//ChamberMaster//Event Calendar 2.0//EN
METHOD:PUBLISH
X-PUBLISHED-TTL:P3D
REFRESH-INTERVAL:P3D
CALSCALE:GREGORIAN
BEGIN:VEVENT
DTSTART:20260510T170000Z
DTEND:20260511T010000Z
X-MICROSOFT-CDO-ALLDAYEVENT:FALSE
SUMMARY:Mother’s Day at Burrowing Owl Estate Winery – Brunch & Enhanced Tastings
DESCRIPTION:Pamper Mom at Burrowing Owl this year. Enjoy the Mother's Day Brunch at the Sonora Room Restaurant\, with special brunch features and   la carte menu items\, 11:30   3:30 pm. Also enjoy wine & chocolate pairings in the Wine Shop all day\, along with a visit from our Ambassador Burrowing Owl\, Pluto of the Burrowing Owl Conservation Society\, from 1-3 pm.
X-ALT-DESC;FMTTYPE=text/html:Pamper Mom at Burrowing Owl this year. Enjoy the Mother&rsquo\;s Day Brunch at the Sonora Room Restaurant\, with special brunch features and &agrave\; la carte menu items\, 11:30 &ndash\; 3:30 pm. Also enjoy wine &amp\; chocolate pairings in the Wine Shop all day\, along with a visit from our Ambassador Burrowing Owl\, Pluto of the Burrowing Owl Conservation Society\, from 1-3 pm.&nbsp\;
LOCATION:Burrowing Owl Estate Winery
UID:e.1841.8046
SEQUENCE:3
DTSTAMP:20260425T010002Z
URL:https://business.sochamber.ca/events/details/mother-s-day-at-burrowing-owl-estate-winery-brunch-enhanced-tastings-8046
END:VEVENT

END:VCALENDAR
